BEGIN:VCALENDAR
VERSION:2.0
PRODID:-//eventon.com NONSGML v1.0//EN
CALSCALE:GREGORIAN
METHOD:PUBLISH
BEGIN:VEVENT
UID:69e8dffb843a0
DTSTAMP:20260422T144931Z
DTSTART:20260401T110000Z
DTEND:20260401T160000Z
LOCATION:
SUMMARY:April Fool's Sale 70% off
DESCRIPTION:April Fool's Sale 70% off\nhttps://www.thfashions.org/events/ap
 ril-fools-sale-70-off-2/
URL:https://www.thfashions.org/events/april-fools-sale-70-off-2/
END:VEVENT
END:VCALENDAR