BEGIN:VCALENDAR
VERSION:2.0
PRODID:-//eventon.com NONSGML v1.0//EN
CALSCALE:GREGORIAN
METHOD:PUBLISH
BEGIN:VEVENT
UID:69e9df959ee6a
DTSTAMP:20260423T090005Z
DTSTART:20251125T110000Z
DTEND:20251128T160000Z
LOCATION:
SUMMARY:CLOSED for Thanksgiving
DESCRIPTION:CLOSED for Thanksgiving\nhttps://www.thfashions.org/events/clos
 ed-for-thanksgiving-2/
URL:https://www.thfashions.org/events/closed-for-thanksgiving-2/
END:VEVENT
END:VCALENDAR